BEGIN:VCALENDAR
VERSION:2.0
PRODID:-//LOWER LA RIVER REVITALIZATION PLAN - ECPv6.15.20//NONSGML v1.0//EN
CALSCALE:GREGORIAN
METHOD:PUBLISH
X-ORIGINAL-URL:https://lowerlariver.org
X-WR-CALDESC:Events for LOWER LA RIVER REVITALIZATION PLAN
REFRESH-INTERVAL;VALUE=DURATION:PT1H
X-Robots-Tag:noindex
X-PUBLISHED-TTL:PT1H
BEGIN:VTIMEZONE
TZID:America/Los_Angeles
BEGIN:DAYLIGHT
TZOFFSETFROM:-0800
TZOFFSETTO:-0700
TZNAME:PDT
DTSTART:20190310T100000
END:DAYLIGHT
BEGIN:STANDARD
TZOFFSETFROM:-0700
TZOFFSETTO:-0800
TZNAME:PST
DTSTART:20191103T090000
END:STANDARD
BEGIN:DAYLIGHT
TZOFFSETFROM:-0800
TZOFFSETTO:-0700
TZNAME:PDT
DTSTART:20200308T100000
END:DAYLIGHT
BEGIN:STANDARD
TZOFFSETFROM:-0700
TZOFFSETTO:-0800
TZNAME:PST
DTSTART:20201101T090000
END:STANDARD
BEGIN:DAYLIGHT
TZOFFSETFROM:-0800
TZOFFSETTO:-0700
TZNAME:PDT
DTSTART:20210314T100000
END:DAYLIGHT
BEGIN:STANDARD
TZOFFSETFROM:-0700
TZOFFSETTO:-0800
TZNAME:PST
DTSTART:20211107T090000
END:STANDARD
END:VTIMEZONE
BEGIN:VEVENT
DTSTART;TZID=America/Los_Angeles:20200220T100000
DTEND;TZID=America/Los_Angeles:20200220T120000
DTSTAMP:20260422T022601
CREATED:20200108T223002Z
LAST-MODIFIED:20201111T002016Z
UID:2055-1582192800-1582200000@lowerlariver.org
SUMMARY:IAG Committee Meeting
DESCRIPTION:All three committees will be present. \nAgenda \nSummary and Materials
URL:https://lowerlariver.org/calendar/iag-committee-meeting-20200220/
LOCATION:Conservation Corps of Long Beach\, 340 Nieto Avenue\, Long Beach\, CA\, 90814\, United States
CATEGORIES:IAG Meetings
END:VEVENT
END:VCALENDAR