BEGIN:VCALENDAR
VERSION:2.0
PRODID:-//LOWER LA RIVER REVITALIZATION PLAN - ECPv6.15.20//NONSGML v1.0//EN
CALSCALE:GREGORIAN
METHOD:PUBLISH
X-WR-CALNAME:LOWER LA RIVER REVITALIZATION PLAN
X-ORIGINAL-URL:https://lowerlariver.org
X-WR-CALDESC:Events for LOWER LA RIVER REVITALIZATION PLAN
REFRESH-INTERVAL;VALUE=DURATION:PT1H
X-Robots-Tag:noindex
X-PUBLISHED-TTL:PT1H
BEGIN:VTIMEZONE
TZID:America/Los_Angeles
BEGIN:DAYLIGHT
TZOFFSETFROM:-0800
TZOFFSETTO:-0700
TZNAME:PDT
DTSTART:20150308T100000
END:DAYLIGHT
BEGIN:STANDARD
TZOFFSETFROM:-0700
TZOFFSETTO:-0800
TZNAME:PST
DTSTART:20151101T090000
END:STANDARD
BEGIN:DAYLIGHT
TZOFFSETFROM:-0800
TZOFFSETTO:-0700
TZNAME:PDT
DTSTART:20160313T100000
END:DAYLIGHT
BEGIN:STANDARD
TZOFFSETFROM:-0700
TZOFFSETTO:-0800
TZNAME:PST
DTSTART:20161106T090000
END:STANDARD
BEGIN:DAYLIGHT
TZOFFSETFROM:-0800
TZOFFSETTO:-0700
TZNAME:PDT
DTSTART:20170312T100000
END:DAYLIGHT
BEGIN:STANDARD
TZOFFSETFROM:-0700
TZOFFSETTO:-0800
TZNAME:PST
DTSTART:20171105T090000
END:STANDARD
END:VTIMEZONE
BEGIN:VEVENT
DTSTART;TZID=America/Los_Angeles:20161112T010000
DTEND;TZID=America/Los_Angeles:20161112T030000
DTSTAMP:20260425T165925
CREATED:20161025T071751Z
LAST-MODIFIED:20161201T053505Z
UID:106-1478912400-1478919600@lowerlariver.org
SUMMARY:Community Kickoff Event
DESCRIPTION:Come learn about the Lower LA River Revitalization Plan while hiking\, running\, biking and horseback riding on the LA River Trail and Bikeway.  See flyer below. \nSouth Gate Community Kickoff Event
URL:https://lowerlariver.org/calendar/community-kickoff-event/
LOCATION:Hollydale Park\, 5400 Monroe Ave\, South Gate\, CA\, 90280\, United States
CATEGORIES:Community Events
END:VEVENT
BEGIN:VEVENT
DTSTART;TZID=America/Los_Angeles:20161103T110000
DTEND;TZID=America/Los_Angeles:20161103T140000
DTSTAMP:20260425T165925
CREATED:20161025T213844Z
LAST-MODIFIED:20161201T053512Z
UID:129-1478170800-1478181600@lowerlariver.org
SUMMARY:Working Group Meeting #7
DESCRIPTION:Working Group Meeting #7 Summary
URL:https://lowerlariver.org/calendar/working-group-meeting-7/
LOCATION:Progress Park\, 15500 Downey Ave\, Paramount\, 90723\, United States
CATEGORIES:Working Group Meetings
END:VEVENT
BEGIN:VEVENT
DTSTART;TZID=America/Los_Angeles:20161006T110000
DTEND;TZID=America/Los_Angeles:20161006T140000
DTSTAMP:20260425T165925
CREATED:20161025T213743Z
LAST-MODIFIED:20161201T053527Z
UID:127-1475751600-1475762400@lowerlariver.org
SUMMARY:Working Group Meeting #6
DESCRIPTION:Working Group Meeting #6 Summary
URL:https://lowerlariver.org/calendar/working-group-meeting-6/
LOCATION:CA
CATEGORIES:Working Group Meetings
END:VEVENT
BEGIN:VEVENT
DTSTART;TZID=America/Los_Angeles:20160908T110000
DTEND;TZID=America/Los_Angeles:20160908T140000
DTSTAMP:20260425T165925
CREATED:20161025T213448Z
LAST-MODIFIED:20161201T053606Z
UID:125-1473332400-1473343200@lowerlariver.org
SUMMARY:Working Group Meeting #5
DESCRIPTION:Working Group Meeting #5 Summary
URL:https://lowerlariver.org/calendar/working-group-meeting-5/
LOCATION:CA
CATEGORIES:Working Group Meetings
END:VEVENT
END:VCALENDAR